BEGIN:VCALENDAR
VERSION:2.0
PRODID:-//eventon.com NONSGML v1.0//EN
CALSCALE:GREGORIAN
METHOD:PUBLISH
BEGIN:VEVENT
UID:69e8a12118c66
DTSTAMP:20260422T122121
DTSTART:20260307T193000Z
DTEND:20260307T000000Z
TZID:UTC
LOCATION:
SUMMARY:SOIREE BLIND TEST ET SATURDAY NIGHT FEVER !
DESCRIPTION:\nhttps://lafilature-manosque.fr/events/soiree-blind-test-et-saturday-night-fever/
URL:https://lafilature-manosque.fr/events/soiree-blind-test-et-saturday-night-fever/
END:VEVENT
END:VCALENDAR