BEGIN:VCALENDAR
VERSION:2.0
PRODID:-//eventon.com NONSGML v1.0//EN
CALSCALE:GREGORIAN
METHOD:PUBLISH
BEGIN:VEVENT
UID:69e9f74f54e56
DTSTAMP:20260423T124119
DTSTART:20251107T193000Z
DTEND:20251107T000000Z
TZID:UTC
LOCATION:
SUMMARY:SLAM SCENE OUVERTE !
DESCRIPTION:SPOKEN WORD AVEC PROVEN&rsquo;SLAM\nhttp://lafilature-manosque.fr/events/slam-scene-ouverte/
URL:http://lafilature-manosque.fr/events/slam-scene-ouverte/
END:VEVENT
END:VCALENDAR